BEGIN:VCALENDAR
VERSION:2.0
PRODID:-//kcksfoundation.org//NONSGML kigkonsult.se iCalcreator 2.30.10//
CALSCALE:GREGORIAN
METHOD:PUBLISH
UID:c9acb318-4e9d-4bcb-bf79-a60d5943ec65
X-WR-CALDESC:
X-WR-RELCALID:1b08d9acb451ec7bfc2bbca1139a63dd
X-WR-TIMEZONE:America/Chicago
BEGIN:VTIMEZONE
TZID:America/Chicago
BEGIN:STANDARD
TZNAME:CST
DTSTART:20241103T020000
TZOFFSETFROM:-0500
TZOFFSETTO:-0600
RDATE:20251102T020000
RDATE:20261101T020000
END:STANDARD
BEGIN:DAYLIGHT
TZNAME:CDT
DTSTART:20250309T020000
TZOFFSETFROM:-0600
TZOFFSETTO:-0500
RDATE:20260308T020000
END:DAYLIGHT
END:VTIMEZONE
BEGIN:VEVENT
UID:dfab8139-35c5-4aa0-a643-d9a82d8a4e08
DTSTAMP:20260419T205352Z
DESCRIPTION:
DTSTART;TZID=America/Chicago:20250611T070000
DTEND;TZID=America/Chicago:20250611T170000
LOCATION:Dub's Dread Golf Club\, 12601 Hollingsworth Rd\, Kansas City\, KS 
 66109 US
SUMMARY:35th Annual Golf Tournament
END:VEVENT
END:VCALENDAR
