BEGIN:VCALENDAR
VERSION:2.0
PRODID:-//kcksfoundation.org//NONSGML kigkonsult.se iCalcreator 2.30.10//
CALSCALE:GREGORIAN
METHOD:PUBLISH
UID:4e4ef356-74de-4c44-bd15-45e27e03f45b
X-WR-CALDESC:
X-WR-RELCALID:c2a14ce4de6ff587083ff289fbf80902
X-WR-TIMEZONE:America/Chicago
BEGIN:VTIMEZONE
TZID:America/Chicago
BEGIN:STANDARD
TZNAME:CST
DTSTART:20251102T020000
TZOFFSETFROM:-0500
TZOFFSETTO:-0600
RDATE:20261101T020000
RDATE:20271107T020000
END:STANDARD
BEGIN:DAYLIGHT
TZNAME:CDT
DTSTART:20260308T020000
TZOFFSETFROM:-0600
TZOFFSETTO:-0500
RDATE:20270314T020000
END:DAYLIGHT
END:VTIMEZONE
BEGIN:VEVENT
UID:8bf898a0-a57c-4eb4-ab33-911e6485c162
DTSTAMP:20260420T153530Z
DESCRIPTION:
DTSTART;TZID=America/Chicago:20260801T080000
DTEND;TZID=America/Chicago:20260801T130000
LOCATION:HomeFieldKCK Showcase Center\, 9250 State Ave.\, Kansas City\, KS 
 66109 US
SUMMARY:Wyandotte County Back to School & Health Fair
END:VEVENT
END:VCALENDAR
