BEGIN:VCALENDAR
VERSION:2.0
PRODID:-//kcksfoundation.org//NONSGML kigkonsult.se iCalcreator 2.30.10//
CALSCALE:GREGORIAN
METHOD:PUBLISH
UID:a27706a3-ea16-4964-b7c1-4ca9df4c68f8
X-WR-CALDESC:
X-WR-RELCALID:6d8459e12e5c4f2c307281f90ee453cd
X-WR-TIMEZONE:America/Chicago
BEGIN:VTIMEZONE
TZID:America/Chicago
BEGIN:STANDARD
TZNAME:CST
DTSTART:20251102T020000
TZOFFSETFROM:-0500
TZOFFSETTO:-0600
RDATE:20261101T020000
RDATE:20271107T020000
END:STANDARD
BEGIN:DAYLIGHT
TZNAME:CDT
DTSTART:20260308T020000
TZOFFSETFROM:-0600
TZOFFSETTO:-0500
RDATE:20270314T020000
END:DAYLIGHT
END:VTIMEZONE
BEGIN:VEVENT
UID:361ec13f-54dd-4609-9584-9e32fa2cbc4a
DTSTAMP:20260420T153607Z
DESCRIPTION:
DTSTART;TZID=America/Chicago:20260610T070000
DTEND;TZID=America/Chicago:20260610T170000
LOCATION:Dub's Dread Golf Course\, 12601 Hollingsworth Rd\, Kansas City\, K
 S 66109 US
SUMMARY:36th Annual Golf Tournament
END:VEVENT
END:VCALENDAR
