BEGIN:VCALENDAR
VERSION:2.0
PRODID:-//kcksfoundation.org//NONSGML kigkonsult.se iCalcreator 2.30.10//
CALSCALE:GREGORIAN
METHOD:PUBLISH
UID:c553db00-aa70-40b5-b197-d7342348957d
X-WR-CALDESC:
X-WR-RELCALID:a87c5637a1186184f9d5ed0f64777433
X-WR-TIMEZONE:America/Chicago
BEGIN:VTIMEZONE
TZID:America/Chicago
BEGIN:STANDARD
TZNAME:CST
DTSTART:20251102T020000
TZOFFSETFROM:-0500
TZOFFSETTO:-0600
RDATE:20261101T020000
END:STANDARD
BEGIN:DAYLIGHT
TZNAME:CDT
DTSTART:20260308T020000
TZOFFSETFROM:-0600
TZOFFSETTO:-0500
RDATE:20270314T020000
END:DAYLIGHT
END:VTIMEZONE
BEGIN:VEVENT
UID:70368e96-b987-4a9b-95fe-ed619c3d9ec8
DTSTAMP:20260420T171746Z
DESCRIPTION:
DTSTART;TZID=America/Chicago:20260506T170000
DTEND;TZID=America/Chicago:20260506T190000
LOCATION:HomeFieldKCK Showcase Center\, 9250 State Ave.\, Kansas City\, KS 
 66109 US
SUMMARY:Spring Excellence In Education-Student of the Month
END:VEVENT
END:VCALENDAR
