BEGIN:VCALENDAR
VERSION:2.0
PRODID:-//kcksfoundation.org//NONSGML kigkonsult.se iCalcreator 2.30.10//
CALSCALE:GREGORIAN
METHOD:PUBLISH
UID:eda555be-d383-4f24-84c5-aa1159b48224
X-WR-CALDESC:
X-WR-RELCALID:4f10bdb86a33ae6b98f40c5bff08c8d5
X-WR-TIMEZONE:America/Chicago
BEGIN:VTIMEZONE
TZID:America/Chicago
BEGIN:STANDARD
TZNAME:CST
DTSTART:20251102T020000
TZOFFSETFROM:-0500
TZOFFSETTO:-0600
RDATE:20261101T020000
END:STANDARD
BEGIN:DAYLIGHT
TZNAME:CDT
DTSTART:20260308T020000
TZOFFSETFROM:-0600
TZOFFSETTO:-0500
RDATE:20270314T020000
END:DAYLIGHT
END:VTIMEZONE
BEGIN:VEVENT
UID:b4ffb4ee-a25e-4fca-ad7d-7d76aedcbdd7
DTSTAMP:20260421T103505Z
DESCRIPTION:
DTSTART;TZID=America/Chicago:20260429T090000
DTEND;TZID=America/Chicago:20260429T103000
LOCATION:KCKPS Central Office Building\, 2010 N 59th St.\, Kansas City\, KS
  66104 US
SUMMARY:Spring Annual Scholarship Reception
END:VEVENT
END:VCALENDAR
