BEGIN:VCALENDAR
VERSION:2.0
PRODID:-//kcksfoundation.org//NONSGML kigkonsult.se iCalcreator 2.30.10//
CALSCALE:GREGORIAN
METHOD:PUBLISH
UID:1ce9058e-4633-4117-9d68-9f44a59fc4c7
X-WR-CALDESC:
X-WR-RELCALID:b66b94c50b373a77df967128e53dd12e
X-WR-TIMEZONE:America/Chicago
BEGIN:VTIMEZONE
TZID:America/Chicago
BEGIN:STANDARD
TZNAME:CST
DTSTART:20251102T020000
TZOFFSETFROM:-0500
TZOFFSETTO:-0600
RDATE:20261101T020000
END:STANDARD
BEGIN:DAYLIGHT
TZNAME:CDT
DTSTART:20250309T020000
TZOFFSETFROM:-0600
TZOFFSETTO:-0500
RDATE:20260308T020000
RDATE:20270314T020000
END:DAYLIGHT
END:VTIMEZONE
BEGIN:VEVENT
UID:b9fdb703-22d4-4f18-bbcb-5882819f8fdc
DTSTAMP:20260424T172106Z
DESCRIPTION:
DTSTART;TZID=America/Chicago:20251211T170000
DTEND;TZID=America/Chicago:20251211T190000
LOCATION:Mark One Electric Co.\, 1414 Genessee\, Kansas City\, MO 64102 US
SUMMARY:Fall Excellence In Education-Staff Award Ceremony
END:VEVENT
END:VCALENDAR
