BEGIN:VCALENDAR
VERSION:2.0
PRODID:-//kcksfoundation.org//NONSGML kigkonsult.se iCalcreator 2.30.10//
CALSCALE:GREGORIAN
METHOD:PUBLISH
UID:6d7b187b-4e2c-478a-91a0-114aa9581f1c
X-WR-CALDESC:
X-WR-RELCALID:023f7b00b520c1922176bd952fb0f3aa
X-WR-TIMEZONE:America/Chicago
BEGIN:VTIMEZONE
TZID:America/Chicago
BEGIN:STANDARD
TZNAME:CST
DTSTART:20251102T020000
TZOFFSETFROM:-0500
TZOFFSETTO:-0600
RDATE:20261101T020000
END:STANDARD
BEGIN:DAYLIGHT
TZNAME:CDT
DTSTART:20250309T020000
TZOFFSETFROM:-0600
TZOFFSETTO:-0500
RDATE:20260308T020000
RDATE:20270314T020000
END:DAYLIGHT
END:VTIMEZONE
BEGIN:VEVENT
UID:3d47a510-e0cb-46f1-a084-125a45bfb0d0
DTSTAMP:20260424T170603Z
DESCRIPTION:
DTSTART;TZID=America/Chicago:20251204T170000
DTEND;TZID=America/Chicago:20251204T190000
LOCATION:Wyandotte High School-Auditorium\, 2501 Minnesota Ave\, Kansas Cit
 y \, KS 66102 US
SUMMARY:Fall Excellence In Education-Student Award Ceremony
END:VEVENT
END:VCALENDAR
