BEGIN:VCALENDAR
VERSION:2.0
PRODID:-//kcksfoundation.org//NONSGML kigkonsult.se iCalcreator 2.30.10//
CALSCALE:GREGORIAN
METHOD:PUBLISH
UID:0ca702b1-e530-46f7-9117-546674a3395c
X-WR-CALDESC:
X-WR-RELCALID:e1ce63da6926553df4708080b009eddf
X-WR-TIMEZONE:America/Chicago
BEGIN:VTIMEZONE
TZID:America/Chicago
BEGIN:STANDARD
TZNAME:CST
DTSTART:20251102T020000
TZOFFSETFROM:-0500
TZOFFSETTO:-0600
RDATE:20261101T020000
END:STANDARD
BEGIN:DAYLIGHT
TZNAME:CDT
DTSTART:20250309T020000
TZOFFSETFROM:-0600
TZOFFSETTO:-0500
RDATE:20260308T020000
RDATE:20270314T020000
END:DAYLIGHT
END:VTIMEZONE
BEGIN:VEVENT
UID:da76cc21-54ca-4e5b-bfe0-2d18d48ce3e7
DTSTAMP:20260424T154343Z
DESCRIPTION:
DTSTART;TZID=America/Chicago:20251112T170000
DTEND;TZID=America/Chicago:20251112T193000
LOCATION:F. L. Schlagle High School\, 2214 N.59th St. \, Kansas City\, AL 6
 6104 US
SUMMARY:Reasons to Believe VIP Reception (5:00pm) & Awards Celebration (6:0
 0pm)
END:VEVENT
END:VCALENDAR
