BEGIN:VCALENDAR
VERSION:2.0
PRODID:-//kcksfoundation.org//NONSGML kigkonsult.se iCalcreator 2.30.10//
CALSCALE:GREGORIAN
METHOD:PUBLISH
UID:6f414953-3679-48e6-a4e7-62338dd01d46
X-WR-CALDESC:
X-WR-RELCALID:df55f6c6b3db052a67ceda632c1ad8b2
X-WR-TIMEZONE:America/Chicago
BEGIN:VTIMEZONE
TZID:America/Chicago
BEGIN:STANDARD
TZNAME:CST
DTSTART:20241103T020000
TZOFFSETFROM:-0500
TZOFFSETTO:-0600
RDATE:20251102T020000
RDATE:20261101T020000
END:STANDARD
BEGIN:DAYLIGHT
TZNAME:CDT
DTSTART:20250309T020000
TZOFFSETFROM:-0600
TZOFFSETTO:-0500
RDATE:20260308T020000
END:DAYLIGHT
END:VTIMEZONE
BEGIN:VEVENT
UID:2b7b1310-d0e9-4edd-91a3-f219cfc9ecd6
DTSTAMP:20260424T084608Z
DESCRIPTION:
DTSTART;TZID=America/Chicago:20250809T080000
DTEND;TZID=America/Chicago:20250809T130000
LOCATION:HomeField KCK\, 9250 State Ave\, Kansas City\, KS 66112 US
SUMMARY:Wyandotte County Back to School & Health Fair
END:VEVENT
END:VCALENDAR
