BEGIN:VCALENDAR
VERSION:2.0
PRODID:-//kcksfoundation.org//NONSGML kigkonsult.se iCalcreator 2.30.10//
CALSCALE:GREGORIAN
METHOD:PUBLISH
UID:eefc213a-8b01-4033-aa83-e427d88da513
X-WR-CALDESC:The Kansas City\, Kansas Foundation for Excellence (KCKSFFE) w
 as founded in 1990 to support educational opportunities for students in th
 e Kansas City\, Kansas Public Schools. Proceeds from this event will provi
 de scholarships and support student success in and out of the classroom.
X-WR-RELCALID:efe14d5742dcc7c99adda5c8e01ddc76
X-WR-TIMEZONE:America/Chicago
BEGIN:VTIMEZONE
TZID:America/Chicago
BEGIN:STANDARD
TZNAME:CST
DTSTART:20211107T020000
TZOFFSETFROM:-0500
TZOFFSETTO:-0600
RDATE:20221106T020000
RDATE:20231105T020000
END:STANDARD
BEGIN:DAYLIGHT
TZNAME:CDT
DTSTART:20220313T020000
TZOFFSETFROM:-0600
TZOFFSETTO:-0500
RDATE:20230312T020000
END:DAYLIGHT
END:VTIMEZONE
BEGIN:VEVENT
UID:c22d5e56-d587-4f46-93b0-31bf64fe6a1d
DTSTAMP:20260422T105615Z
DESCRIPTION:The Kansas City\, Kansas Foundation for Excellence (KCKSFFE) wa
 s founded in 1990 to support educational opportunities for students in the
  Kansas City\, Kansas Public Schools. Proceeds from this event will provid
 e scholarships and support student success in and out of the classroom.
DTSTART;TZID=America/Chicago:20220615T063000
DTEND;TZID=America/Chicago:20220615T183000
LOCATION:Dub's Dread Golf Club
SUMMARY:2022 Annual Golf Tournament
END:VEVENT
END:VCALENDAR
