BEGIN:VCALENDAR
VERSION:2.0
PRODID:-//kcksfoundation.org//NONSGML kigkonsult.se iCalcreator 2.30.10//
CALSCALE:GREGORIAN
METHOD:PUBLISH
UID:5481d9a7-75c7-45f3-a66a-56585f3f3022
X-WR-CALDESC:
X-WR-RELCALID:813f121158d22fa20ae605c01064789f
X-WR-TIMEZONE:America/Chicago
BEGIN:VTIMEZONE
TZID:America/Chicago
BEGIN:STANDARD
TZNAME:CST
DTSTART:20201101T020000
TZOFFSETFROM:-0500
TZOFFSETTO:-0600
RDATE:20211107T020000
RDATE:20221106T020000
END:STANDARD
BEGIN:DAYLIGHT
TZNAME:CDT
DTSTART:20210314T020000
TZOFFSETFROM:-0600
TZOFFSETTO:-0500
RDATE:20220313T020000
RDATE:20230312T020000
END:DAYLIGHT
END:VTIMEZONE
BEGIN:VEVENT
UID:15c21b95-c692-4288-8528-b022ad748715
DTSTAMP:20260423T022547Z
DESCRIPTION:
DTSTART;TZID=America/Chicago:20210919T000000
DTEND;TZID=America/Chicago:20210919T235900
LOCATION:
SUMMARY:Day of Giving
END:VEVENT
END:VCALENDAR
