BEGIN:VCALENDAR
VERSION:2.0
PRODID:-//kcksfoundation.org//NONSGML kigkonsult.se iCalcreator 2.30.10//
CALSCALE:GREGORIAN
METHOD:PUBLISH
UID:4206c298-a7eb-4de2-a410-e3445f24d918
X-WR-CALDESC:The Wyandotte County Back to School Fair is an annual fair whe
 re Wyandotte students receive school supplies\, backpacks\, immunizations\
 , and community resources in addition to health screenings\, at no cost.\n
X-WR-RELCALID:02c70b732eee966f9178791c4c4b9f0f
X-WR-TIMEZONE:America/Chicago
BEGIN:VTIMEZONE
TZID:America/Chicago
BEGIN:STANDARD
TZNAME:CST
DTSTART:20201101T020000
TZOFFSETFROM:-0500
TZOFFSETTO:-0600
RDATE:20211107T020000
RDATE:20221106T020000
END:STANDARD
BEGIN:DAYLIGHT
TZNAME:CDT
DTSTART:20210314T020000
TZOFFSETFROM:-0600
TZOFFSETTO:-0500
RDATE:20220313T020000
END:DAYLIGHT
END:VTIMEZONE
BEGIN:VEVENT
UID:69bcde7c-af57-485c-9213-eca0211491fd
DTSTAMP:20260423T034734Z
DESCRIPTION:The Wyandotte County Back to School Fair is an annual fair wher
 e Wyandotte students receive school supplies\, backpacks\, immunizations\,
  and community resources in addition to health screenings\, at no cost.\n
DTSTART;TZID=America/Chicago:20210807T080000
DTEND;TZID=America/Chicago:20210807T130000
LOCATION:7836 State Ave\, Kansas City\, KS 66112 US
SUMMARY:2021 Wyandotte County Back To School Fair
END:VEVENT
END:VCALENDAR
