BEGIN:VCALENDAR
VERSION:2.0
PRODID:-//kcksfoundation.org//NONSGML kigkonsult.se iCalcreator 2.30.10//
CALSCALE:GREGORIAN
METHOD:PUBLISH
UID:9ecb8c75-496c-40ee-99f9-4710a963d1ed
X-WR-CALDESC:The Kansas City\, Kansas School Foundation for Excellence\, In
 c. (the Foundation) would like to formally invite you to be a part of our 
 First Annual Kansas City\, Kansas Public School District (KCKPSD) Address 
 on October 27th\, 2020 at 8:00 am.\n\nDue to COVID-19\, we will be holding
  this year's District Address virtually! Get your snacks ready and be a pa
 rt of our annual Kansas City\, Kansas Public Schools District Address from
  the comfort of your own home or office. This event is complete with appea
 rances from Christal Watson\, Executive Director of the Kansas City\, Kans
 as School Foundation for Excellence and Dr. Alicia Miguel\, Interim Superi
 ntendent for KCKPS.\n\nFeaturing a performance from Sumner Academy Virtual
  Choir\, introductions of the KCKPS Board of Education and KCKS Foundation
  for Excellence members\, KCKPS district goals/plans for the upcoming year
 \, & more!
X-WR-RELCALID:40ed48e49fe78413b771ead38703db72
X-WR-TIMEZONE:America/Chicago
BEGIN:VTIMEZONE
TZID:America/Chicago
BEGIN:STANDARD
TZNAME:CST
DTSTART:20191103T020000
TZOFFSETFROM:-0500
TZOFFSETTO:-0600
RDATE:20201101T020000
RDATE:20211107T020000
END:STANDARD
BEGIN:DAYLIGHT
TZNAME:CDT
DTSTART:20200308T020000
TZOFFSETFROM:-0600
TZOFFSETTO:-0500
RDATE:20210314T020000
RDATE:20220313T020000
END:DAYLIGHT
END:VTIMEZONE
BEGIN:VEVENT
UID:cd71f12a-5438-4207-9384-e05ec46cd177
DTSTAMP:20260423T194350Z
DESCRIPTION:The Kansas City\, Kansas School Foundation for Excellence\, Inc
 . (the Foundation) would like to formally invite you to be a part of our F
 irst Annual Kansas City\, Kansas Public School District (KCKPSD) Address o
 n October 27th\, 2020 at 8:00 am.\n\nDue to COVID-19\, we will be holding 
 this year's District Address virtually! Get your snacks ready and be a par
 t of our annual Kansas City\, Kansas Public Schools District Address from 
 the comfort of your own home or office. This event is complete with appear
 ances from Christal Watson\, Executive Director of the Kansas City\, Kansa
 s School Foundation for Excellence and Dr. Alicia Miguel\, Interim Superin
 tendent for KCKPS.\n\nFeaturing a performance from Sumner Academy Virtual 
 Choir\, introductions of the KCKPS Board of Education and KCKS Foundation 
 for Excellence members\, KCKPS district goals/plans for the upcoming year\
 , & more!
DTSTART;TZID=America/Chicago:20201027T080000
DTEND;TZID=America/Chicago:20201027T090000
LOCATION:Online - Please Register to Receive a Link
SUMMARY:KCKPS District Address
END:VEVENT
END:VCALENDAR
