BEGIN:VCALENDAR
VERSION:2.0
PRODID:-//kcksfoundation.org//NONSGML kigkonsult.se iCalcreator 2.30.10//
CALSCALE:GREGORIAN
METHOD:PUBLISH
UID:c9a0c004-6f04-4e42-8283-21b3adaa9da2
X-WR-CALDESC:The 21st Annual Wyandotte County Back to School Fair has been 
 <strong><em>cancelled</em></strong> due to Covid-19. School supplies will 
 be provided by the Kansas City\, Kansas Public School District for USD 500
  students. More information will be provided in the weeks to come.
X-WR-RELCALID:39b56ae11aa92643633d61e43e585f22
X-WR-TIMEZONE:America/Chicago
BEGIN:VTIMEZONE
TZID:America/Chicago
BEGIN:STANDARD
TZNAME:CST
DTSTART:20191103T020000
TZOFFSETFROM:-0500
TZOFFSETTO:-0600
RDATE:20201101T020000
RDATE:20211107T020000
END:STANDARD
BEGIN:DAYLIGHT
TZNAME:CDT
DTSTART:20200308T020000
TZOFFSETFROM:-0600
TZOFFSETTO:-0500
RDATE:20210314T020000
END:DAYLIGHT
END:VTIMEZONE
BEGIN:VEVENT
UID:8ba1665f-737d-47b3-a74a-ffa52c47249a
DTSTAMP:20260423T230303Z
DESCRIPTION:The 21st Annual Wyandotte County Back to School Fair has been <
 strong><em>cancelled</em></strong> due to Covid-19. School supplies will b
 e provided by the Kansas City\, Kansas Public School District for USD 500 
 students. More information will be provided in the weeks to come.
DTSTART;TZID=America/Chicago:20200626T000000
DTEND;TZID=America/Chicago:20200820T235900
LOCATION:
SUMMARY:Annual Wyandotte County Back to School Fair
END:VEVENT
END:VCALENDAR
