BEGIN:VCALENDAR
VERSION:2.0
PRODID:-//kcksfoundation.org//NONSGML kigkonsult.se iCalcreator 2.30.10//
CALSCALE:GREGORIAN
METHOD:PUBLISH
UID:be1ed084-13aa-44d1-bf11-4f557b604bb4
X-WR-CALDESC:
X-WR-RELCALID:14cecc640f5aa3fb0d7e6bd5b5683f2f
X-WR-TIMEZONE:America/Chicago
BEGIN:VTIMEZONE
TZID:America/Chicago
BEGIN:STANDARD
TZNAME:CST
DTSTART:20191103T020000
TZOFFSETFROM:-0500
TZOFFSETTO:-0600
RDATE:20201101T020000
END:STANDARD
BEGIN:DAYLIGHT
TZNAME:CDT
DTSTART:20200308T020000
TZOFFSETFROM:-0600
TZOFFSETTO:-0500
RDATE:20210314T020000
END:DAYLIGHT
END:VTIMEZONE
BEGIN:VEVENT
UID:2a203606-a357-4a4d-b144-c81818294d0a
DTSTAMP:20260423T163040Z
DESCRIPTION:
DTSTART;TZID=America/Chicago:20200401T000000
DTEND;TZID=America/Chicago:20201231T225900
LOCATION:Online/Virtual
SUMMARY:iBelieve Campaign
END:VEVENT
END:VCALENDAR
